BEGIN:VCALENDAR
VERSION:2.0
PRODID:-//1God1Body - ECPv6.15.20//NONSGML v1.0//EN
CALSCALE:GREGORIAN
METHOD:PUBLISH
X-WR-CALNAME:1God1Body
X-ORIGINAL-URL:https://1god1body.org
X-WR-CALDESC:Events for 1God1Body
REFRESH-INTERVAL;VALUE=DURATION:PT1H
X-Robots-Tag:noindex
X-PUBLISHED-TTL:PT1H
BEGIN:VTIMEZONE
TZID:America/Halifax
BEGIN:DAYLIGHT
TZOFFSETFROM:-0400
TZOFFSETTO:-0300
TZNAME:ADT
DTSTART:20180311T060000
END:DAYLIGHT
BEGIN:STANDARD
TZOFFSETFROM:-0300
TZOFFSETTO:-0400
TZNAME:AST
DTSTART:20181104T050000
END:STANDARD
BEGIN:DAYLIGHT
TZOFFSETFROM:-0400
TZOFFSETTO:-0300
TZNAME:ADT
DTSTART:20190310T060000
END:DAYLIGHT
BEGIN:STANDARD
TZOFFSETFROM:-0300
TZOFFSETTO:-0400
TZNAME:AST
DTSTART:20191103T050000
END:STANDARD
BEGIN:DAYLIGHT
TZOFFSETFROM:-0400
TZOFFSETTO:-0300
TZNAME:ADT
DTSTART:20200308T060000
END:DAYLIGHT
BEGIN:STANDARD
TZOFFSETFROM:-0300
TZOFFSETTO:-0400
TZNAME:AST
DTSTART:20201101T050000
END:STANDARD
END:VTIMEZONE
BEGIN:VEVENT
DTSTART;TZID=America/Halifax:20190727T100000
DTEND;TZID=America/Halifax:20190727T150000
DTSTAMP:20260419T080303
CREATED:20190722T154213Z
LAST-MODIFIED:20190722T154216Z
UID:10003755-1564221600-1564239600@1god1body.org
SUMMARY:Sabbath Fellowship - Perth WA
DESCRIPTION:
URL:https://1god1body.org/events/sabbath-fellowship-perth/
LOCATION:Salvation Army Church\, 26 Jenolan Way\, Merriwa\, Washington\, 6030\, Australia
ATTACH;FMTTYPE=image/png:https://1god1body.org/wp-content/uploads/2019/07/Perth-July-2019.png
END:VEVENT
END:VCALENDAR